BEGIN:VCALENDAR
VERSION:2.0
PRODID:-//PI2030 - ECPv6.14.2//NONSGML v1.0//EN
CALSCALE:GREGORIAN
METHOD:PUBLISH
X-ORIGINAL-URL:https://parquesindustriales2030.com
X-WR-CALDESC:Eventos para PI2030
REFRESH-INTERVAL;VALUE=DURATION:PT1H
X-Robots-Tag:noindex
X-PUBLISHED-TTL:PT1H
BEGIN:VTIMEZONE
TZID:America/Argentina/Buenos_Aires
BEGIN:STANDARD
TZOFFSETFROM:-0300
TZOFFSETTO:-0300
TZNAME:-03
DTSTART:20230101T000000
END:STANDARD
END:VTIMEZONE
BEGIN:VEVENT
DTSTART;TZID=America/Argentina/Buenos_Aires:20230823T100000
DTEND;TZID=America/Argentina/Buenos_Aires:20230825T180000
DTSTAMP:20260424T222725
CREATED:20230319T220005Z
LAST-MODIFIED:20230320T002454Z
UID:225469-1692784800-1692986400@parquesindustriales2030.com
SUMMARY:Exposición de Parques Industriales Nacional e Internacional
DESCRIPTION:Invitamos a la 1ra Exposición de Parques Industriales Nacional e Internacional\, a realizarse los días 23\, 24 y 25 de Agosto de 2023 de 10 a 18 hs en el predio ferial La Rural de Buenos Aires.
URL:https://parquesindustriales2030.com/event/exposicion-de-parques-industriales-nacional-e-internacional/
LOCATION:La Rural | Pabellón Amarillo\, Av. Sarmiento 2704\, CABA\, CABA\, C1425\, Argentina
CATEGORIES:Feria / Exposición
ORGANIZER;CN="APIA":MAILTO:apia.comunicacion@gmail.com
END:VEVENT
END:VCALENDAR